Workbook
Name Division: Teams!$A$6:$M$9

Sheet Teams
B2: 7 Team Round Robin | F2: This workbook has been put together to help tournament organisers produce their divisional paperwork for block racing. Information only needs to input into the boxes on this page, the rest of the workbook has been programmed to populate based on this information.
B3: Division Number | D3: Insert Division Number
B4: Division Name: | D4: Insert Div Name
B5: Divisional Judge: | D5: Insert Judge Name | F5: Complete the information requested in the boxes - Dvision Number, Name (where applicable), Judge etc - this will populate all the sheets in the workbook.
B6: Ring Party: | D6: Insert Team/Insert Team
B7: Tournament: | D7: Insert Tournament Name | F7: If you know the Captain's Name and BFA number these can be inserted into the box provided and will populate on the relevant team sheet in the workbook, however this information is the resposbility of the team captainto complete when they collect the paperwork at your tournament.
B8: Date: | D8: Insert Date
B9: Host Team: | D9: Insert Host Name
B10: Head Judge | D10: Insert HJ Name | H10: You do not need to complete the team captain information if it's not available to you
B12: TeamNo | C12: Team | D12: Time | E12: Captain | F12: Captain's BFA Number | G12: Division Breakout | H12: This area is for the teams in the division, complete this with the TRN number, team name and seed time. This information will populate on the sheets in the workbook for that division and will work out the Divisional Break Out
A13: 1 | C13: Team 1 | G13: =IF(D3=1,"",D13-0.26) -> -0.26
A14: 2 | C14: Team 2
A15: 3 | C15: Team 3 | G15: If a team is declaring a time then place a 'D' in column E this will then change the team sheets to show a team breakout rather than a divisional breakout.
A16: 4 | C16: Team 4
A17: 5 | C17: Team 5
A18: 6 | C18: Team 6
A19: 7 | C19: Team 7
C22: Paperwork | E22: Out | F22: In | G22: Ring Party Assignments Acknowledged
C23: =C13 -> Team 1
C24: =C14 -> Team 2
C25: =C15 -> Team 3
C26: =C16 -> Team 4
C27: =C17 -> Team 5
C28: =C18 -> Team 6
C29: =C19 -> Team 7

Sheet Seed1
A1: C.2 | C1: Time Sheet | I1: BFA Rules and Policies apply | AE1: TO BE COMPLETED IN INK
A2: Tournament | E2: =Teams!D7 -> Insert Tournament Name | P2: Hybrid | R2: =IF(OR(RIGHT(Z4,2)="HO",RIGHT(Z4,2)="HM"),"Y","") | W2: Date | Z2: =Teams!D8 -> Insert Date
A3: Head Judge | E3: =Teams!D10 -> Insert HJ Name | W3: Host Team: | Z3: =Teams!D9 -> Insert Host Name
A4: Team | E4: =Teams!C13 -> Team 1 | S4: Team Registration No: | Z4: =Teams!B13 -> 0
A5: Captain | E5: =Teams!E13 -> 0 | S5: Captain's BFA Number | Z5: =Teams!F13 -> 0
A6: Box loader Name | E6: _____________________________________ | S6: Boxloader's BFA Number | AA6: _________________
B7: Dog | F7: Dogs BFA No | L7: Breed | Q7: Height | T7: Handler | AA7: Handler's BFA No
A8: 1
A9: 2
A10: 3
A11: 4
A12: 5
A13: 6
L15: BREAKOUT TIME: | U15: DIVISION OR TEAM B/O
A16: Note: Handlers BFA number must be completed | Q16: =Teams!$G$13 -> -0.26 | AB16: DIVISION
A18: Heat | B18: Race | D18: Opponent | I18: Dogs | O18: Time | U18: Clean | Z18: B/O | AC18: Race Result
A20: 1 | B20: =Round!B2 -> 1 | D20: =Round!H2 -> Team 4 | I20: 1 | J20: 2 | K20: 3 | L20: 4 | M20: 5 | N20: 6 | W20: W | X20: L | Y20: T | AC20: W L
A21: 2 | I21: 1 | J21: 2 | K21: 3 | L21: 4 | M21: 5 | N21: 6 | W21: W | X21: L | Y21: T
A22: 3 | I22: 1 | J22: 2 | K22: 3 | L22: 4 | M22: 5 | N22: 6 | W22: W | X22: L | Y22: T | AC22: Fastest Time
A23: 4 | I23: 1 | J23: 2 | K23: 3 | L23: 4 | M23: 5 | N23: 6 | W23: W | X23: L | Y23: T
A24: 5 | I24: 1 | J24: 2 | K24: 3 | L24: 4 | M24: 5 | N24: 6 | W24: W | X24: L | Y24: T
A25: 6 | I25: 1 | J25: 2 | K25: 3 | L25: 4 | M25: 5 | N25: 6 | W25: W | X25: L | Y25: T
A28: 1 | B28: =Round!B10 -> 5 | D28: =Round!C10 -> Team 5 | I28: 1 | J28: 2 | K28: 3 | L28: 4 | M28: 5 | N28: 6 | W28: W | X28: L | Y28: T | AC28: W L
A29: 2 | I29: 1 | J29: 2 | K29: 3 | L29: 4 | M29: 5 | N29: 6 | W29: W | X29: L | Y29: T
A30: 3 | I30: 1 | J30: 2 | K30: 3 | L30: 4 | M30: 5 | N30: 6 | W30: W | X30: L | Y30: T | AC30: Fastest Time
A31: 4 | I31: 1 | J31: 2 | K31: 3 | L31: 4 | M31: 5 | N31: 6 | W31: W | X31: L | Y31: T
A32: 5 | I32: 1 | J32: 2 | K32: 3 | L32: 4 | M32: 5 | N32: 6 | W32: W | X32: L | Y32: T
A33: 6 | I33: 1 | J33: 2 | K33: 3 | L33: 4 | M33: 5 | N33: 6 | W33: W | X33: L | Y33: T
A36: 1 | D36: =Round!H16 -> Team 6 | I36: 1 | J36: 2 | K36: 3 | L36: 4 | M36: 5 | N36: 6 | W36: W | X36: L | Y36: T | AC36: W L
A37: 2 | I37: 1 | J37: 2 | K37: 3 | L37: 4 | M37: 5 | N37: 6 | W37: W | X37: L | Y37: T
A38: 3 | B38: =Round!B16 -> 8 | I38: 1 | J38: 2 | K38: 3 | L38: 4 | M38: 5 | N38: 6 | W38: W | X38: L | Y38: T | AC38: Fastest Time
A39: 4 | I39: 1 | J39: 2 | K39: 3 | L39: 4 | M39: 5 | N39: 6 | W39: W | X39: L | Y39: T
A40: 5 | I40: 1 | J40: 2 | K40: 3 | L40: 4 | M40: 5 | N40: 6 | W40: W | X40: L | Y40: T
A41: 6 | I41: 1 | J41: 2 | K41: 3 | L41: 4 | M41: 5 | N41: 6 | W41: W | X41: L | Y41: T
A44: 1 | D44: =Round!C22 -> Team 3 | I44: 1 | J44: 2 | K44: 3 | L44: 4 | M44: 5 | N44: 6 | W44: W | X44: L | Y44: T | AC44: W L
A45: 2 | I45: 1 | J45: 2 | K45: 3 | L45: 4 | M45: 5 | N45: 6 | W45: W | X45: L | Y45: T
A46: 3 | B46: =Round!B22 -> 11 | I46: 1 | J46: 2 | K46: 3 | L46: 4 | M46: 5 | N46: 6 | W46: W | X46: L | Y46: T | AC46: Fastest Time
A47: 4 | I47: 1 | J47: 2 | K47: 3 | L47: 4 | M47: 5 | N47: 6 | W47: W | X47: L | Y47: T
A48: 5 | I48: 1 | J48: 2 | K48: 3 | L48: 4 | M48: 5 | N48: 6 | W48: W | X48: L | Y48: T
A49: 6 | I49: 1 | J49: 2 | K49: 3 | L49: 4 | M49: 5 | N49: 6 | W49: W | X49: L | Y49: T
...

Sheet Seed2
A1: C.2 | C1: Time Sheet | I1: BFA Rules and Policies apply | AE1: TO BE COMPLETED IN INK
A2: Tournament | E2: =Teams!D7 -> Insert Tournament Name | P2: Hybrid | R2: =IF(OR(RIGHT(Z4,2)="HO",RIGHT(Z4,2)="HM"),"Y","") | W2: Date | Z2: =Teams!D8 -> Insert Date
A3: Head Judge | E3: =Teams!D10 -> Insert HJ Name | W3: Host Team: | Z3: =Teams!D9 -> Insert Host Name
A4: Team | E4: =Teams!C14 -> Team 2 | S4: Team Registration No: | Z4: =Teams!B14 -> 0
A5: Captain | E5: =Teams!E14 -> 0 | S5: Captain's BFA Number | Z5: =Teams!F14 -> 0
A6: Box loader Name | E6: _____________________________________ | S6: Boxloader's BFA Number | AA6: _________________
B7: Dog | F7: Dogs BFA No | L7: Breed | Q7: Height | T7: Handler | AA7: Handler's BFA No
A8: 1
A9: 2
A10: 3
A11: 4
A12: 5
A13: 6
L15: BREAKOUT TIME: | U15: DIVISION OR TEAM B/O
A16: Note: Handlers BFA number must be completed | Q16: =Teams!G13 -> -0.26 | AB16: DIVISION
A18: Heat | B18: Race | D18: Opponent | I18: Dogs | O18: Time | U18: Clean | Z18: B/O | AC18: Race Result
A20: 1 | B20: =Round!B4 -> 2 | D20: =Round!H4 -> Team 5 | I20: 1 | J20: 2 | K20: 3 | L20: 4 | M20: 5 | N20: 6 | W20: W | X20: L | Y20: T | AC20: W L
A21: 2 | I21: 1 | J21: 2 | K21: 3 | L21: 4 | M21: 5 | N21: 6 | W21: W | X21: L | Y21: T
A22: 3 | I22: 1 | J22: 2 | K22: 3 | L22: 4 | M22: 5 | N22: 6 | W22: W | X22: L | Y22: T | AC22: Fastest Time
A23: 4 | I23: 1 | J23: 2 | K23: 3 | L23: 4 | M23: 5 | N23: 6 | W23: W | X23: L | Y23: T
A24: 5 | I24: 1 | J24: 2 | K24: 3 | L24: 4 | M24: 5 | N24: 6 | W24: W | X24: L | Y24: T
A25: 6 | I25: 1 | J25: 2 | K25: 3 | L25: 4 | M25: 5 | N25: 6 | W25: W | X25: L | Y25: T
A28: 1 | B28: =Round!B12 -> 6 | D28: =Round!C12 -> Team 6 | I28: 1 | J28: 2 | K28: 3 | L28: 4 | M28: 5 | N28: 6 | W28: W | X28: L | Y28: T | AC28: W L
A29: 2 | I29: 1 | J29: 2 | K29: 3 | L29: 4 | M29: 5 | N29: 6 | W29: W | X29: L | Y29: T
A30: 3 | I30: 1 | J30: 2 | K30: 3 | L30: 4 | M30: 5 | N30: 6 | W30: W | X30: L | Y30: T | AC30: Fastest Time
A31: 4 | I31: 1 | J31: 2 | K31: 3 | L31: 4 | M31: 5 | N31: 6 | W31: W | X31: L | Y31: T
A32: 5 | I32: 1 | J32: 2 | K32: 3 | L32: 4 | M32: 5 | N32: 6 | W32: W | X32: L | Y32: T
A33: 6 | I33: 1 | J33: 2 | K33: 3 | L33: 4 | M33: 5 | N33: 6 | W33: W | X33: L | Y33: T
A36: 1 | D36: =Round!C18 -> Team 4 | I36: 1 | J36: 2 | K36: 3 | L36: 4 | M36: 5 | N36: 6 | W36: W | X36: L | Y36: T | AC36: W L
A37: 2 | I37: 1 | J37: 2 | K37: 3 | L37: 4 | M37: 5 | N37: 6 | W37: W | X37: L | Y37: T
A38: 3 | B38: =Round!B18 -> 9 | I38: 1 | J38: 2 | K38: 3 | L38: 4 | M38: 5 | N38: 6 | W38: W | X38: L | Y38: T | AC38: Fastest Time
A39: 4 | I39: 1 | J39: 2 | K39: 3 | L39: 4 | M39: 5 | N39: 6 | W39: W | X39: L | Y39: T
A40: 5 | I40: 1 | J40: 2 | K40: 3 | L40: 4 | M40: 5 | N40: 6 | W40: W | X40: L | Y40: T
A41: 6 | I41: 1 | J41: 2 | K41: 3 | L41: 4 | M41: 5 | N41: 6 | W41: W | X41: L | Y41: T
A44: 1 | D44: =Round!H27 -> Team 7 | I44: 1 | J44: 2 | K44: 3 | L44: 4 | M44: 5 | N44: 6 | W44: W | X44: L | Y44: T | AC44: W L
A45: 2 | I45: 1 | J45: 2 | K45: 3 | L45: 4 | M45: 5 | N45: 6 | W45: W | X45: L | Y45: T
A46: 3 | B46: =Round!B27 -> 13 | I46: 1 | J46: 2 | K46: 3 | L46: 4 | M46: 5 | N46: 6 | W46: W | X46: L | Y46: T | AC46: Fastest Time
A47: 4 | I47: 1 | J47: 2 | K47: 3 | L47: 4 | M47: 5 | N47: 6 | W47: W | X47: L | Y47: T
A48: 5 | I48: 1 | J48: 2 | K48: 3 | L48: 4 | M48: 5 | N48: 6 | W48: W | X48: L | Y48: T
A49: 6 | I49: 1 | J49: 2 | K49: 3 | L49: 4 | M49: 5 | N49: 6 | W49: W | X49: L | Y49: T
...

Sheet Seed3
A1: C.2 | C1: Time Sheet | I1: BFA Rules and Policies apply | AE1: TO BE COMPLETED IN INK
A2: Tournament | E2: =Teams!D7 -> Insert Tournament Name | P2: Hybrid | R2: =IF(OR(RIGHT(Z4,2)="HO",RIGHT(Z4,2)="HM"),"Y","") | W2: Date | Z2: =Teams!D8 -> Insert Date
A3: Head Judge | E3: =Teams!D10 -> Insert HJ Name | W3: Host Team: | Z3: =Teams!D9 -> Insert Host Name
A4: Team | E4: =Teams!C15 -> Team 3 | S4: Team Registration No: | Z4: =Teams!B15 -> 0
A5: Captain | E5: =Teams!E15 -> 0 | S5: Captain's BFA Number | Z5: =Teams!F15 -> 0
A6: Box loader Name | E6: _____________________________________ | S6: Boxloader's BFA Number | AA6: _________________
B7: Dog | F7: Dogs BFA No | L7: Breed | Q7: Height | T7: Handler | AA7: Handler's BFA No
A8: 1
A9: 2
A10: 3
A11: 4
A12: 5
A13: 6
L15: BREAKOUT TIME: | U15: DIVISION OR TEAM B/O
A16: Note: Handlers BFA number must be completed | Q16: =Teams!G13 -> -0.26 | AB16: DIVISION
A18: Heat | B18: Race | D18: Opponent | I18: Dogs | O18: Time | U18: Clean | Z18: B/O | AC18: Race Result
A20: 1 | B20: =Round!B6 -> 3 | D20: =Round!H6 -> Team 6 | I20: 1 | J20: 2 | K20: 3 | L20: 4 | M20: 5 | N20: 6 | W20: W | X20: L | Y20: T | AC20: W L
A21: 2 | I21: 1 | J21: 2 | K21: 3 | L21: 4 | M21: 5 | N21: 6 | W21: W | X21: L | Y21: T
A22: 3 | I22: 1 | J22: 2 | K22: 3 | L22: 4 | M22: 5 | N22: 6 | W22: W | X22: L | Y22: T | AC22: Fastest Time
A23: 4 | I23: 1 | J23: 2 | K23: 3 | L23: 4 | M23: 5 | N23: 6 | W23: W | X23: L | Y23: T
A24: 5 | I24: 1 | J24: 2 | K24: 3 | L24: 4 | M24: 5 | N24: 6 | W24: W | X24: L | Y24: T
A25: 6 | I25: 1 | J25: 2 | K25: 3 | L25: 4 | M25: 5 | N25: 6 | W25: W | X25: L | Y25: T
A28: 1 | B28: =Round!B14 -> 7 | D28: =Round!C14 -> Team 7 | I28: 1 | J28: 2 | K28: 3 | L28: 4 | M28: 5 | N28: 6 | W28: W | X28: L | Y28: T | AC28: W L
A29: 2 | I29: 1 | J29: 2 | K29: 3 | L29: 4 | M29: 5 | N29: 6 | W29: W | X29: L | Y29: T
A30: 3 | I30: 1 | J30: 2 | K30: 3 | L30: 4 | M30: 5 | N30: 6 | W30: W | X30: L | Y30: T | AC30: Fastest Time
A31: 4 | I31: 1 | J31: 2 | K31: 3 | L31: 4 | M31: 5 | N31: 6 | W31: W | X31: L | Y31: T
A32: 5 | I32: 1 | J32: 2 | K32: 3 | L32: 4 | M32: 5 | N32: 6 | W32: W | X32: L | Y32: T
A33: 6 | I33: 1 | J33: 2 | K33: 3 | L33: 4 | M33: 5 | N33: 6 | W33: W | X33: L | Y33: T
A36: 1 | D36: =Round!H22 -> Team 1 | I36: 1 | J36: 2 | K36: 3 | L36: 4 | M36: 5 | N36: 6 | W36: W | X36: L | Y36: T | AC36: W L
A37: 2 | I37: 1 | J37: 2 | K37: 3 | L37: 4 | M37: 5 | N37: 6 | W37: W | X37: L | Y37: T
A38: 3 | B38: =Round!B22 -> 11 | I38: 1 | J38: 2 | K38: 3 | L38: 4 | M38: 5 | N38: 6 | W38: W | X38: L | Y38: T | AC38: Fastest Time
A39: 4 | I39: 1 | J39: 2 | K39: 3 | L39: 4 | M39: 5 | N39: 6 | W39: W | X39: L | Y39: T
A40: 5 | I40: 1 | J40: 2 | K40: 3 | L40: 4 | M40: 5 | N40: 6 | W40: W | X40: L | Y40: T
A41: 6 | I41: 1 | J41: 2 | K41: 3 | L41: 4 | M41: 5 | N41: 6 | W41: W | X41: L | Y41: T
A44: 1 | D44: =Round!C29 -> Team 5 | I44: 1 | J44: 2 | K44: 3 | L44: 4 | M44: 5 | N44: 6 | W44: W | X44: L | Y44: T | AC44: W L
A45: 2 | I45: 1 | J45: 2 | K45: 3 | L45: 4 | M45: 5 | N45: 6 | W45: W | X45: L | Y45: T
A46: 3 | B46: =Round!B29 -> 14 | I46: 1 | J46: 2 | K46: 3 | L46: 4 | M46: 5 | N46: 6 | W46: W | X46: L | Y46: T | AC46: Fastest Time
A47: 4 | I47: 1 | J47: 2 | K47: 3 | L47: 4 | M47: 5 | N47: 6 | W47: W | X47: L | Y47: T
A48: 5 | I48: 1 | J48: 2 | K48: 3 | L48: 4 | M48: 5 | N48: 6 | W48: W | X48: L | Y48: T
A49: 6 | I49: 1 | J49: 2 | K49: 3 | L49: 4 | M49: 5 | N49: 6 | W49: W | X49: L | Y49: T
...

Sheet Seed4
A1: C.2 | C1: Time Sheet | I1: BFA Rules and Policies apply | AE1: TO BE COMPLETED IN INK
A2: Tournament | E2: =Teams!D7 -> Insert Tournament Name | P2: Hybrid | R2: =IF(OR(RIGHT(Z4,2)="HO",RIGHT(Z4,2)="HM"),"Y","") | W2: Date | Z2: =Teams!D8 -> Insert Date
A3: Head Judge | E3: =Teams!D10 -> Insert HJ Name | W3: Host Team: | Z3: =Teams!D9 -> Insert Host Name
A4: Team | E4: =Teams!C16 -> Team 4 | S4: Team Registration No: | Z4: =Teams!B16 -> 0
A5: Captain | E5: =Teams!E16 -> 0 | S5: Captain's BFA Number | Z5: =Teams!F16 -> 0
A6: Box loader Name | E6: _____________________________________ | S6: Boxloader's BFA Number | AA6: _________________
B7: Dog | F7: Dogs BFA No | L7: Breed | Q7: Height | T7: Handler | AA7: Handler's BFA No
A8: 1
A9: 2
A10: 3
A11: 4
A12: 5
A13: 6
L15: BREAKOUT TIME: | U15: DIVISION OR TEAM B/O
A16: Note: Handlers BFA number must be completed | Q16: =Teams!G13 -> -0.26 | AB16: DIVISION
A18: Heat | B18: Race | D18: Opponent | I18: Dogs | O18: Time | U18: Clean | Z18: B/O | AC18: Race Result
A20: 1 | B20: =Round!B2 -> 1 | D20: =Round!C2 -> Team 1 | I20: 1 | J20: 2 | K20: 3 | L20: 4 | M20: 5 | N20: 6 | W20: W | X20: L | Y20: T | AC20: W L
A21: 2 | I21: 1 | J21: 2 | K21: 3 | L21: 4 | M21: 5 | N21: 6 | W21: W | X21: L | Y21: T
A22: 3 | I22: 1 | J22: 2 | K22: 3 | L22: 4 | M22: 5 | N22: 6 | W22: W | X22: L | Y22: T | AC22: Fastest Time
A23: 4 | I23: 1 | J23: 2 | K23: 3 | L23: 4 | M23: 5 | N23: 6 | W23: W | X23: L | Y23: T
A24: 5 | I24: 1 | J24: 2 | K24: 3 | L24: 4 | M24: 5 | N24: 6 | W24: W | X24: L | Y24: T
A25: 6 | I25: 1 | J25: 2 | K25: 3 | L25: 4 | M25: 5 | N25: 6 | W25: W | X25: L | Y25: T
A28: 1 | B28: =Round!B8 -> 4 | D28: =Round!H8 -> Team 7 | I28: 1 | J28: 2 | K28: 3 | L28: 4 | M28: 5 | N28: 6 | W28: W | X28: L | Y28: T | AC28: W L
A29: 2 | I29: 1 | J29: 2 | K29: 3 | L29: 4 | M29: 5 | N29: 6 | W29: W | X29: L | Y29: T
A30: 3 | I30: 1 | J30: 2 | K30: 3 | L30: 4 | M30: 5 | N30: 6 | W30: W | X30: L | Y30: T | AC30: Fastest Time
A31: 4 | I31: 1 | J31: 2 | K31: 3 | L31: 4 | M31: 5 | N31: 6 | W31: W | X31: L | Y31: T
A32: 5 | I32: 1 | J32: 2 | K32: 3 | L32: 4 | M32: 5 | N32: 6 | W32: W | X32: L | Y32: T
A33: 6 | I33: 1 | J33: 2 | K33: 3 | L33: 4 | M33: 5 | N33: 6 | W33: W | X33: L | Y33: T
A36: 1 | D36: =Round!H18 -> Team 2 | I36: 1 | J36: 2 | K36: 3 | L36: 4 | M36: 5 | N36: 6 | W36: W | X36: L | Y36: T | AC36: W L
A37: 2 | I37: 1 | J37: 2 | K37: 3 | L37: 4 | M37: 5 | N37: 6 | W37: W | X37: L | Y37: T
A38: 3 | B38: =Round!B18 -> 9 | I38: 1 | J38: 2 | K38: 3 | L38: 4 | M38: 5 | N38: 6 | W38: W | X38: L | Y38: T | AC38: Fastest Time
A39: 4 | I39: 1 | J39: 2 | K39: 3 | L39: 4 | M39: 5 | N39: 6 | W39: W | X39: L | Y39: T
A40: 5 | I40: 1 | J40: 2 | K40: 3 | L40: 4 | M40: 5 | N40: 6 | W40: W | X40: L | Y40: T
A41: 6 | I41: 1 | J41: 2 | K41: 3 | L41: 4 | M41: 5 | N41: 6 | W41: W | X41: L | Y41: T
A44: 1 | D44: =Round!C25 -> Team 6 | I44: 1 | J44: 2 | K44: 3 | L44: 4 | M44: 5 | N44: 6 | W44: W | X44: L | Y44: T | AC44: W L
A45: 2 | I45: 1 | J45: 2 | K45: 3 | L45: 4 | M45: 5 | N45: 6 | W45: W | X45: L | Y45: T
A46: 3 | B46: =Round!B25 -> 12 | I46: 1 | J46: 2 | K46: 3 | L46: 4 | M46: 5 | N46: 6 | W46: W | X46: L | Y46: T | AC46: Fastest Time
A47: 4 | I47: 1 | J47: 2 | K47: 3 | L47: 4 | M47: 5 | N47: 6 | W47: W | X47: L | Y47: T
A48: 5 | I48: 1 | J48: 2 | K48: 3 | L48: 4 | M48: 5 | N48: 6 | W48: W | X48: L | Y48: T
A49: 6 | I49: 1 | J49: 2 | K49: 3 | L49: 4 | M49: 5 | N49: 6 | W49: W | X49: L | Y49: T
...

Sheet Seed5
A1: C.2 | C1: Time Sheet | I1: BFA Rules and Policies apply | AE1: TO BE COMPLETED IN INK
A2: Tournament | E2: =Teams!D7 -> Insert Tournament Name | P2: Hybrid | R2: =IF(OR(RIGHT(Z4,2)="HO",RIGHT(Z4,2)="HM"),"Y","") | W2: Date | Z2: =Teams!D8 -> Insert Date
A3: Head Judge | E3: =Teams!D10 -> Insert HJ Name | W3: Host Team: | Z3: =Teams!D9 -> Insert Host Name
A4: Team | E4: =Teams!C17 -> Team 5 | S4: Team Registration No: | Z4: =Teams!B17 -> 0
A5: Captain | E5: =Teams!E17 -> 0 | S5: Captain's BFA Number | Z5: =Teams!F17 -> 0
A6: Box loader Name | E6: _____________________________________ | S6: Boxloader's BFA Number | AA6: _________________
B7: Dog | F7: Dogs BFA No | L7: Breed | Q7: Height | T7: Handler | AA7: Handler's BFA No
A8: 1
A9: 2
A10: 3
A11: 4
A12: 5
A13: 6
L15: BREAKOUT TIME: | U15: DIVISION OR TEAM B/O
A16: Note: Handlers BFA number must be completed | Q16: =Teams!G13 -> -0.26 | AB16: DIVISION
A18: Heat | B18: Race | D18: Opponent | I18: Dogs | O18: Time | U18: Clean | Z18: B/O | AC18: Race Result
A20: 1 | B20: =Round!B4 -> 2 | D20: =Round!C4 -> Team 2 | I20: 1 | J20: 2 | K20: 3 | L20: 4 | M20: 5 | N20: 6 | W20: W | X20: L | Y20: T | AC20: W L
A21: 2 | I21: 1 | J21: 2 | K21: 3 | L21: 4 | M21: 5 | N21: 6 | W21: W | X21: L | Y21: T
A22: 3 | I22: 1 | J22: 2 | K22: 3 | L22: 4 | M22: 5 | N22: 6 | W22: W | X22: L | Y22: T | AC22: Fastest Time
A23: 4 | I23: 1 | J23: 2 | K23: 3 | L23: 4 | M23: 5 | N23: 6 | W23: W | X23: L | Y23: T
A24: 5 | I24: 1 | J24: 2 | K24: 3 | L24: 4 | M24: 5 | N24: 6 | W24: W | X24: L | Y24: T
A25: 6 | I25: 1 | J25: 2 | K25: 3 | L25: 4 | M25: 5 | N25: 6 | W25: W | X25: L | Y25: T
A28: 1 | B28: =Round!B10 -> 5 | D28: =Round!H10 -> Team 1 | I28: 1 | J28: 2 | K28: 3 | L28: 4 | M28: 5 | N28: 6 | W28: W | X28: L | Y28: T | AC28: W L
A29: 2 | I29: 1 | J29: 2 | K29: 3 | L29: 4 | M29: 5 | N29: 6 | W29: W | X29: L | Y29: T
A30: 3 | I30: 1 | J30: 2 | K30: 3 | L30: 4 | M30: 5 | N30: 6 | W30: W | X30: L | Y30: T | AC30: Fastest Time
A31: 4 | I31: 1 | J31: 2 | K31: 3 | L31: 4 | M31: 5 | N31: 6 | W31: W | X31: L | Y31: T
A32: 5 | I32: 1 | J32: 2 | K32: 3 | L32: 4 | M32: 5 | N32: 6 | W32: W | X32: L | Y32: T
A33: 6 | I33: 1 | J33: 2 | K33: 3 | L33: 4 | M33: 5 | N33: 6 | W33: W | X33: L | Y33: T
A36: 1 | D36: =Round!C20 -> Team 7 | I36: 1 | J36: 2 | K36: 3 | L36: 4 | M36: 5 | N36: 6 | W36: W | X36: L | Y36: T | AC36: W L
A37: 2 | I37: 1 | J37: 2 | K37: 3 | L37: 4 | M37: 5 | N37: 6 | W37: W | X37: L | Y37: T
A38: 3 | B38: =Round!B20 -> 10 | I38: 1 | J38: 2 | K38: 3 | L38: 4 | M38: 5 | N38: 6 | W38: W | X38: L | Y38: T | AC38: Fastest Time
A39: 4 | I39: 1 | J39: 2 | K39: 3 | L39: 4 | M39: 5 | N39: 6 | W39: W | X39: L | Y39: T
A40: 5 | I40: 1 | J40: 2 | K40: 3 | L40: 4 | M40: 5 | N40: 6 | W40: W | X40: L | Y40: T
A41: 6 | I41: 1 | J41: 2 | K41: 3 | L41: 4 | M41: 5 | N41: 6 | W41: W | X41: L | Y41: T
A44: 1 | D44: =Round!H29 -> Team 3 | I44: 1 | J44: 2 | K44: 3 | L44: 4 | M44: 5 | N44: 6 | W44: W | X44: L | Y44: T | AC44: W L
A45: 2 | I45: 1 | J45: 2 | K45: 3 | L45: 4 | M45: 5 | N45: 6 | W45: W | X45: L | Y45: T
A46: 3 | B46: =Round!B29 -> 14 | I46: 1 | J46: 2 | K46: 3 | L46: 4 | M46: 5 | N46: 6 | W46: W | X46: L | Y46: T | AC46: Fastest Time
A47: 4 | I47: 1 | J47: 2 | K47: 3 | L47: 4 | M47: 5 | N47: 6 | W47: W | X47: L | Y47: T
A48: 5 | I48: 1 | J48: 2 | K48: 3 | L48: 4 | M48: 5 | N48: 6 | W48: W | X48: L | Y48: T
A49: 6 | I49: 1 | J49: 2 | K49: 3 | L49: 4 | M49: 5 | N49: 6 | W49: W | X49: L | Y49: T
...

Sheet Seed6
A1: C.2 | C1: Time Sheet | I1: BFA Rules and Policies apply | AE1: TO BE COMPLETED IN INK
A2: Tournament | E2: =Teams!D7 -> Insert Tournament Name | P2: Hybrid | R2: =IF(OR(RIGHT(Z4,2)="HO",RIGHT(Z4,2)="HM"),"Y","") | W2: Date | Z2: =Teams!D8 -> Insert Date
A3: Head Judge | E3: =Teams!D10 -> Insert HJ Name | W3: Host Team: | Z3: =Teams!D9 -> Insert Host Name
A4: Team | E4: =Teams!C18 -> Team 6 | S4: Team Registration No: | Z4: =Teams!B18 -> 0
A5: Captain | E5: =Teams!E18 -> 0 | S5: Captain's BFA Number | Z5: =Teams!F18 -> 0
A6: Box loader Name | E6: _____________________________________ | S6: Boxloader's BFA Number | AA6: _________________
B7: Dog | F7: Dogs BFA No | L7: Breed | Q7: Height | T7: Handler | AA7: Handler's BFA No
A8: 1
A9: 2
A10: 3
A11: 4
A12: 5
A13: 6
L15: BREAKOUT TIME: | U15: DIVISION OR TEAM B/O
A16: Note: Handlers BFA number must be completed | Q16: =Teams!G13 -> -0.26 | AB16: DIVISION
A18: Heat | B18: Race | D18: Opponent | I18: Dogs | O18: Time | U18: Clean | Z18: B/O | AC18: Race Result
A20: 1 | B20: =Round!B6 -> 3 | D20: =Round!C6 -> Team 3 | I20: 1 | J20: 2 | K20: 3 | L20: 4 | M20: 5 | N20: 6 | W20: W | X20: L | Y20: T | AC20: W L
A21: 2 | I21: 1 | J21: 2 | K21: 3 | L21: 4 | M21: 5 | N21: 6 | W21: W | X21: L | Y21: T
A22: 3 | I22: 1 | J22: 2 | K22: 3 | L22: 4 | M22: 5 | N22: 6 | W22: W | X22: L | Y22: T | AC22: Fastest Time
A23: 4 | I23: 1 | J23: 2 | K23: 3 | L23: 4 | M23: 5 | N23: 6 | W23: W | X23: L | Y23: T
A24: 5 | I24: 1 | J24: 2 | K24: 3 | L24: 4 | M24: 5 | N24: 6 | W24: W | X24: L | Y24: T
A25: 6 | I25: 1 | J25: 2 | K25: 3 | L25: 4 | M25: 5 | N25: 6 | W25: W | X25: L | Y25: T
A28: 1 | B28: =Round!B12 -> 6 | D28: =Round!H12 -> Team 2 | I28: 1 | J28: 2 | K28: 3 | L28: 4 | M28: 5 | N28: 6 | W28: W | X28: L | Y28: T | AC28: W L
A29: 2 | I29: 1 | J29: 2 | K29: 3 | L29: 4 | M29: 5 | N29: 6 | W29: W | X29: L | Y29: T
A30: 3 | I30: 1 | J30: 2 | K30: 3 | L30: 4 | M30: 5 | N30: 6 | W30: W | X30: L | Y30: T | AC30: Fastest Time
A31: 4 | I31: 1 | J31: 2 | K31: 3 | L31: 4 | M31: 5 | N31: 6 | W31: W | X31: L | Y31: T
A32: 5 | I32: 1 | J32: 2 | K32: 3 | L32: 4 | M32: 5 | N32: 6 | W32: W | X32: L | Y32: T
A33: 6 | I33: 1 | J33: 2 | K33: 3 | L33: 4 | M33: 5 | N33: 6 | W33: W | X33: L | Y33: T
A36: 1 | D36: =Round!C16 -> Team 1 | I36: 1 | J36: 2 | K36: 3 | L36: 4 | M36: 5 | N36: 6 | W36: W | X36: L | Y36: T | AC36: W L
A37: 2 | I37: 1 | J37: 2 | K37: 3 | L37: 4 | M37: 5 | N37: 6 | W37: W | X37: L | Y37: T
A38: 3 | B38: =Round!B16 -> 8 | I38: 1 | J38: 2 | K38: 3 | L38: 4 | M38: 5 | N38: 6 | W38: W | X38: L | Y38: T | AC38: Fastest Time
A39: 4 | I39: 1 | J39: 2 | K39: 3 | L39: 4 | M39: 5 | N39: 6 | W39: W | X39: L | Y39: T
A40: 5 | I40: 1 | J40: 2 | K40: 3 | L40: 4 | M40: 5 | N40: 6 | W40: W | X40: L | Y40: T
A41: 6 | I41: 1 | J41: 2 | K41: 3 | L41: 4 | M41: 5 | N41: 6 | W41: W | X41: L | Y41: T
A44: 1 | D44: =Round!H25 -> Team 4 | I44: 1 | J44: 2 | K44: 3 | L44: 4 | M44: 5 | N44: 6 | W44: W | X44: L | Y44: T | AC44: W L
A45: 2 | I45: 1 | J45: 2 | K45: 3 | L45: 4 | M45: 5 | N45: 6 | W45: W | X45: L | Y45: T
A46: 3 | B46: =Round!B25 -> 12 | I46: 1 | J46: 2 | K46: 3 | L46: 4 | M46: 5 | N46: 6 | W46: W | X46: L | Y46: T | AC46: Fastest Time
A47: 4 | I47: 1 | J47: 2 | K47: 3 | L47: 4 | M47: 5 | N47: 6 | W47: W | X47: L | Y47: T
A48: 5 | I48: 1 | J48: 2 | K48: 3 | L48: 4 | M48: 5 | N48: 6 | W48: W | X48: L | Y48: T
A49: 6 | I49: 1 | J49: 2 | K49: 3 | L49: 4 | M49: 5 | N49: 6 | W49: W | X49: L | Y49: T
...

Sheet Seed7
A1: C.2 | C1: Time Sheet | I1: BFA Rules and Policies apply | AE1: TO BE COMPLETED IN INK
A2: Tournament | E2: =Teams!D7 -> Insert Tournament Name | P2: Hybrid | R2: =IF(OR(RIGHT(Z4,2)="HO",RIGHT(Z4,2)="HM"),"Y","") | W2: Date | Z2: =Teams!D8 -> Insert Date
A3: Head Judge | E3: =Teams!D10 -> Insert HJ Name | W3: Host Team: | Z3: =Teams!D9 -> Insert Host Name
A4: Team | E4: =Teams!C19 -> Team 7 | S4: Team Registration No: | Z4: =Teams!B19 -> 0
A5: Captain | E5: =Teams!E19 -> 0 | S5: Captain's BFA Number | Z5: =Teams!F19 -> 0
A6: Box loader Name | E6: _____________________________________ | S6: Boxloader's BFA Number | AA6: _________________
B7: Dog | F7: Dogs BFA No | L7: Breed | Q7: Height | T7: Handler | AA7: Handler's BFA No
A8: 1
A9: 2
A10: 3
A11: 4
A12: 5
A13: 6
L15: BREAKOUT TIME: | U15: DIVISION OR TEAM B/O
A16: Note: Handlers BFA number must be completed | Q16: =Teams!G13 -> -0.26 | AB16: DIVISION
A18: Heat | B18: Race | D18: Opponent | I18: Dogs | O18: Time | U18: Clean | Z18: B/O | AC18: Race Result
A20: 1 | B20: =Round!B8 -> 4 | D20: =Round!C8 -> Team 4 | I20: 1 | J20: 2 | K20: 3 | L20: 4 | M20: 5 | N20: 6 | W20: W | X20: L | Y20: T | AC20: W L
A21: 2 | I21: 1 | J21: 2 | K21: 3 | L21: 4 | M21: 5 | N21: 6 | W21: W | X21: L | Y21: T
A22: 3 | I22: 1 | J22: 2 | K22: 3 | L22: 4 | M22: 5 | N22: 6 | W22: W | X22: L | Y22: T | AC22: Fastest Time
A23: 4 | I23: 1 | J23: 2 | K23: 3 | L23: 4 | M23: 5 | N23: 6 | W23: W | X23: L | Y23: T
A24: 5 | I24: 1 | J24: 2 | K24: 3 | L24: 4 | M24: 5 | N24: 6 | W24: W | X24: L | Y24: T
A25: 6 | I25: 1 | J25: 2 | K25: 3 | L25: 4 | M25: 5 | N25: 6 | W25: W | X25: L | Y25: T
A28: 1 | B28: =Round!B14 -> 7 | D28: =Round!H14 -> Team 3 | I28: 1 | J28: 2 | K28: 3 | L28: 4 | M28: 5 | N28: 6 | W28: W | X28: L | Y28: T | AC28: W L
A29: 2 | I29: 1 | J29: 2 | K29: 3 | L29: 4 | M29: 5 | N29: 6 | W29: W | X29: L | Y29: T
A30: 3 | I30: 1 | J30: 2 | K30: 3 | L30: 4 | M30: 5 | N30: 6 | W30: W | X30: L | Y30: T | AC30: Fastest Time
A31: 4 | I31: 1 | J31: 2 | K31: 3 | L31: 4 | M31: 5 | N31: 6 | W31: W | X31: L | Y31: T
A32: 5 | I32: 1 | J32: 2 | K32: 3 | L32: 4 | M32: 5 | N32: 6 | W32: W | X32: L | Y32: T
A33: 6 | I33: 1 | J33: 2 | K33: 3 | L33: 4 | M33: 5 | N33: 6 | W33: W | X33: L | Y33: T
A36: 1 | D36: =Round!H20 -> Team 5 | I36: 1 | J36: 2 | K36: 3 | L36: 4 | M36: 5 | N36: 6 | W36: W | X36: L | Y36: T | AC36: W L
A37: 2 | I37: 1 | J37: 2 | K37: 3 | L37: 4 | M37: 5 | N37: 6 | W37: W | X37: L | Y37: T
A38: 3 | B38: =Round!B20 -> 10 | I38: 1 | J38: 2 | K38: 3 | L38: 4 | M38: 5 | N38: 6 | W38: W | X38: L | Y38: T | AC38: Fastest Time
A39: 4 | I39: 1 | J39: 2 | K39: 3 | L39: 4 | M39: 5 | N39: 6 | W39: W | X39: L | Y39: T
A40: 5 | I40: 1 | J40: 2 | K40: 3 | L40: 4 | M40: 5 | N40: 6 | W40: W | X40: L | Y40: T
A41: 6 | I41: 1 | J41: 2 | K41: 3 | L41: 4 | M41: 5 | N41: 6 | W41: W | X41: L | Y41: T
A44: 1 | D44: =Round!C27 -> Team 2 | I44: 1 | J44: 2 | K44: 3 | L44: 4 | M44: 5 | N44: 6 | W44: W | X44: L | Y44: T | AC44: W L
A45: 2 | I45: 1 | J45: 2 | K45: 3 | L45: 4 | M45: 5 | N45: 6 | W45: W | X45: L | Y45: T
A46: 3 | B46: =Round!B27 -> 13 | I46: 1 | J46: 2 | K46: 3 | L46: 4 | M46: 5 | N46: 6 | W46: W | X46: L | Y46: T | AC46: Fastest Time
A47: 4 | I47: 1 | J47: 2 | K47: 3 | L47: 4 | M47: 5 | N47: 6 | W47: W | X47: L | Y47: T
A48: 5 | I48: 1 | J48: 2 | K48: 3 | L48: 4 | M48: 5 | N48: 6 | W48: W | X48: L | Y48: T
A49: 6 | I49: 1 | J49: 2 | K49: 3 | L49: 4 | M49: 5 | N49: 6 | W49: W | X49: L | Y49: T
...

Sheet Round
A1: Division: | C1: =Teams!$D$3 -> Insert Division Number | D1: =Teams!D8 -> Insert Date | K1: =Teams!B2 -> 7 Team Round Robin
A2: Race | B2: 1 | C2: =Teams!$C$13 -> Team 1 | D2: W | E2: L | F2: T | G2: vs | H2: =Teams!$C$16 -> Team 4 | I2: W | J2: L | K2: T
C3: =CONCATENATE("Seed 1 (",Teams!$D$13,")") -> Seed 1 () | H3: =CONCATENATE("Seed 4 (",Teams!$D$16,")") -> Seed 4 ()
A4: Race | B4: 2 | C4: =Teams!$C$14 -> Team 2 | D4: W | E4: L | F4: T | G4: vs | H4: =Teams!$C$17 -> Team 5 | I4: W | J4: L | K4: T
C5: =CONCATENATE("Seed 2 (",Teams!$D$14,")",) -> Seed 2 () | H5: =CONCATENATE("Seed 5 (",Teams!$D$17,")") -> Seed 5 ()
A6: Race | B6: 3 | C6: =Teams!$C$15 -> Team 3 | D6: W | E6: L | F6: T | G6: vs | H6: =Teams!$C$18 -> Team 6 | I6: W | J6: L | K6: T
C7: =CONCATENATE("Seed 3 (",Teams!$D$15,")") -> Seed 3 () | H7: =CONCATENATE("Seed 6 (",Teams!$D$18,")") -> Seed 6 ()
A8: Race | B8: 4 | C8: =Teams!$C$16 -> Team 4 | D8: W | E8: L | F8: T | G8: vs | H8: =Teams!$C$19 -> Team 7 | I8: W | J8: L | K8: T
C9: =CONCATENATE("Seed 4 (",Teams!$D$16,")") -> Seed 4 () | H9: =CONCATENATE("Seed 7 (",Teams!$D$19,")") -> Seed 7 ()
A10: Race | B10: 5 | C10: =Teams!$C$17 -> Team 5 | D10: W | E10: L | F10: T | G10: vs | H10: =Teams!$C$13 -> Team 1 | I10: W | J10: L | K10: T
C11: =CONCATENATE("Seed 5 (",Teams!$D$17,")") -> Seed 5 () | H11: =CONCATENATE("Seed 1 (",Teams!$D$13,")") -> Seed 1 ()
A12: Race | B12: 6 | C12: =Teams!$C$18 -> Team 6 | D12: W | E12: L | F12: T | G12: vs | H12: =Teams!$C$14 -> Team 2 | I12: W | J12: L | K12: T
C13: =CONCATENATE("Seed 6 (",Teams!$D$18,")") -> Seed 6 () | H13: =CONCATENATE("Seed 2 (",Teams!$D$14,")",) -> Seed 2 ()
A14: Race | B14: 7 | C14: =Teams!$C$19 -> Team 7 | D14: W | E14: L | F14: T | G14: vs | H14: =Teams!$C$15 -> Team 3 | I14: W | J14: L | K14: T
C15: =CONCATENATE("Seed 7 (",Teams!$D$19,")") -> Seed 7 () | H15: =CONCATENATE("Seed 3 (",Teams!$D$15,")") -> Seed 3 ()
A16: Race | B16: 8 | C16: =Teams!$C$13 -> Team 1 | D16: W | E16: L | F16: T | G16: vs | H16: =Teams!$C$18 -> Team 6 | I16: W | J16: L | K16: T
C17: =CONCATENATE("Seed 1 (",Teams!$D$13,")") -> Seed 1 () | H17: =CONCATENATE("Seed 6 (",Teams!$D$18,")") -> Seed 6 ()
A18: Race | B18: 9 | C18: =Teams!$C$16 -> Team 4 | D18: W | E18: L | F18: T | G18: vs | H18: =Teams!$C$14 -> Team 2 | I18: W | J18: L | K18: T
C19: =CONCATENATE("Seed 4 (",Teams!$D$16,")") -> Seed 4 () | H19: =CONCATENATE("Seed 2 (",Teams!$D$14,")",) -> Seed 2 ()
A20: Race | B20: 10 | C20: =Teams!$C$19 -> Team 7 | D20: W | E20: L | F20: T | G20: vs | H20: =Teams!$C$17 -> Team 5 | I20: W | J20: L | K20: T
C21: =CONCATENATE("Seed 7 (",Teams!$D$19,")") -> Seed 7 () | H21: =CONCATENATE("Seed 5 (",Teams!$D$17,")") -> Seed 5 ()
A22: Race | B22: 11 | C22: =Teams!$C$15 -> Team 3 | D22: W | E22: L | F22: T | G22: vs | H22: =Teams!$C$13 -> Team 1 | I22: W | J22: L | K22: T
C23: =CONCATENATE("Seed 3 (",Teams!$D$15,")") -> Seed 3 () | H23: =CONCATENATE("Seed 1 (",Teams!$D$13,")") -> Seed 1 ()
A25: Race | B25: 12 | C25: =Teams!$C$18 -> Team 6 | D25: W | E25: L | F25: T | G25: vs | H25: =Teams!$C$16 -> Team 4 | I25: W | J25: L | K25: T
C26: =CONCATENATE("Seed 6 (",Teams!$D$18,")") -> Seed 6 () | H26: =CONCATENATE("Seed 4 (",Teams!$D$16,")") -> Seed 4 ()
A27: Race | B27: 13 | C27: =Teams!$C$14 -> Team 2 | D27: W | E27: L | F27: T | G27: vs | H27: =Teams!$C$19 -> Team 7 | I27: W | J27: L | K27: T
C28: =CONCATENATE("Seed 2 (",Teams!$D$14,")",) -> Seed 2 () | H28: =CONCATENATE("Seed 7 (",Teams!$D$19,")") -> Seed 7 ()
A29: Race | B29: 14 | C29: =Teams!$C$17 -> Team 5 | D29: W | E29: L | F29: T | G29: vs | H29: =Teams!$C$15 -> Team 3 | I29: W | J29: L | K29: T
C30: =CONCATENATE("Seed 5 (",Teams!$D$17,")") -> Seed 5 () | H30: =CONCATENATE("Seed 3 (",Teams!$D$15,")") -> Seed 3 ()
A31: Race | B31: 15 | C31: =Teams!$C$18 -> Team 6 | D31: W | E31: L | F31: T | G31: vs | H31: =Teams!$C$19 -> Team 7 | I31: W | J31: L | K31: T
C32: =CONCATENATE("Seed 6 (",Teams!$D$18,")") -> Seed 6 () | H32: =CONCATENATE("Seed 7 (",Teams!$D$19,")") -> Seed 7 ()
A33: Race | B33: 16 | C33: =Teams!$C$16 -> Team 4 | D33: W | E33: L | F33: T | G33: vs | H33: =Teams!$C$17 -> Team 5 | I33: W | J33: L | K33: T
C34: =CONCATENATE("Seed 4 (",Teams!$D$16,")") -> Seed 4 () | H34: =CONCATENATE("Seed 5 (",Teams!$D$17,")") -> Seed 5 ()
A35: Race | B35: 17 | C35: =Teams!$C$14 -> Team 2 | D35: W | E35: L | F35: T | G35: vs | H35: =Teams!$C$15 -> Team 3 | I35: W | J35: L | K35: T
C36: =CONCATENATE("Seed 2 (",Teams!$D$14,")",) -> Seed 2 () | H36: =CONCATENATE("Seed 3 (",Teams!$D$15,")") -> Seed 3 ()
A37: Race | B37: 18 | C37: =Teams!$C$19 -> Team 7 | D37: W | E37: L | F37: T | G37: vs | H37: =Teams!$C$13 -> Team 1 | I37: W | J37: L | K37: T
C38: =CONCATENATE("Seed 7 (",Teams!$D$19,")") -> Seed 7 () | H38: =CONCATENATE("Seed 1 (",Teams!$D$13,")") -> Seed 1 ()
A39: Race | B39: 19 | C39: =Teams!$C$17 -> Team 5 | D39: W | E39: L | F39: T | G39: vs | H39: =Teams!$C$18 -> Team 6 | I39: W | J39: L | K39: T
C40: =CONCATENATE("Seed 5 (",Teams!$D$17,")") -> Seed 5 () | H40: =CONCATENATE("Seed 6 (",Teams!$D$18,")") -> Seed 6 ()
A41: Race | B41: 20 | C41: =Teams!$C$15 -> Team 3 | D41: W | E41: L | F41: T | G41: vs | H41: =Teams!$C$16 -> Team 4 | I41: W | J41: L | K41: T
...

Sheet Round (x3)
A1: =Teams!$D$4 -> Insert Div Name | C1: =Teams!$D$8 -> Insert Date | F1: =Teams!$B$2 -> 7 Team Round Robin | H1: =Teams!$D$4 -> Insert Div Name | J1: =Teams!$D$8 -> Insert Date | M1: =Teams!$B$2 -> 7 Team Round Robin
A2: Race 1 | B2: =Teams!$C$14 -> Team 2 | C2: W L T | D2: vs | E2: =Teams!$C$15 -> Team 3 | F2: W L T | H2: Race 1 | I2: =Teams!$C$14 -> Team 2 | J2: W L T | K2: vs | L2: =Teams!$C$15 -> Team 3 | M2: W L T
B3: =Round!$C3 -> Seed 1 () | E3: =Round!$H3 -> Seed 4 () | I3: =Round!$C3 -> Seed 1 () | L3: =Round!$H3 -> Seed 4 ()
A4: Race 2 | B4: =Teams!$C$18 -> Team 6 | C4: W L T | D4: vs | E4: =Teams!$C$13 -> Team 1 | F4: W L T | H4: Race 2 | I4: =Teams!$C$18 -> Team 6 | J4: W L T | K4: vs | L4: =Teams!$C$13 -> Team 1 | M4: W L T
B5: =Round!$C5 -> Seed 2 () | E5: =Round!$H5 -> Seed 5 () | I5: =Round!$C5 -> Seed 2 () | L5: =Round!$H5 -> Seed 5 ()
A6: Race 3 | B6: =Teams!$C$16 -> Team 4 | C6: W L T | D6: vs | E6: =Teams!$C$17 -> Team 5 | F6: W L T | H6: Race 3 | I6: =Teams!$C$16 -> Team 4 | J6: W L T | K6: vs | L6: =Teams!$C$17 -> Team 5 | M6: W L T
B7: =Round!$C7 -> Seed 3 () | E7: =Round!$H7 -> Seed 6 () | I7: =Round!$C7 -> Seed 3 () | L7: =Round!$H7 -> Seed 6 ()
A8: Race 4 | B8: =Teams!$C$15 -> Team 3 | C8: W L T | D8: vs | E8: =Teams!$C$18 -> Team 6 | F8: W L T | H8: Race 4 | I8: =Teams!$C$15 -> Team 3 | J8: W L T | K8: vs | L8: =Teams!$C$18 -> Team 6 | M8: W L T
B9: =Round!$C9 -> Seed 4 () | E9: =Round!$H9 -> Seed 7 () | I9: =Round!$C9 -> Seed 4 () | L9: =Round!$H9 -> Seed 7 ()
A10: Race 5 | B10: =Teams!$C$16 -> Team 4 | C10: W L T | D10: vs | E10: =Teams!$C$14 -> Team 2 | F10: W L T | H10: Race 5 | I10: =Teams!$C$16 -> Team 4 | J10: W L T | K10: vs | L10: =Teams!$C$14 -> Team 2 | M10: W L T
B11: =Round!$C11 -> Seed 5 () | E11: =Round!$H11 -> Seed 1 () | I11: =Round!$C11 -> Seed 5 () | L11: =Round!$H11 -> Seed 1 ()
A12: Race 6 | B12: =Teams!$C$17 -> Team 5 | C12: W L T | D12: vs | E12: =Teams!$C$13 -> Team 1 | F12: W L T | H12: Race 6 | I12: =Teams!$C$17 -> Team 5 | J12: W L T | K12: vs | L12: =Teams!$C$13 -> Team 1 | M12: W L T
B13: =Round!$C13 -> Seed 6 () | E13: =Round!$H13 -> Seed 2 () | I13: =Round!$C13 -> Seed 6 () | L13: =Round!$H13 -> Seed 2 ()
A14: Race 7 | B14: =Teams!$C$14 -> Team 2 | C14: W L T | D14: vs | E14: =Teams!$C$18 -> Team 6 | F14: W L T | H14: Race 7 | I14: =Teams!$C$14 -> Team 2 | J14: W L T | K14: vs | L14: =Teams!$C$18 -> Team 6 | M14: W L T
B15: =Round!$C15 -> Seed 7 () | E15: =Round!$H15 -> Seed 3 () | I15: =Round!$C15 -> Seed 7 () | L15: =Round!$H15 -> Seed 3 ()
A16: Race 8 | B16: =Teams!$C$13 -> Team 1 | C16: W L T | D16: vs | E16: =Teams!$C$16 -> Team 4 | F16: W L T | H16: Race 8 | I16: =Teams!$C$13 -> Team 1 | J16: W L T | K16: vs | L16: =Teams!$C$16 -> Team 4 | M16: W L T
B17: =Round!$C17 -> Seed 1 () | E17: =Round!$H17 -> Seed 6 () | I17: =Round!$C17 -> Seed 1 () | L17: =Round!$H17 -> Seed 6 ()
A18: Race 9 | B18: =Teams!$C$17 -> Team 5 | C18: W L T | D18: vs | E18: =Teams!$C$15 -> Team 3 | F18: W L T | H18: Race 9 | I18: =Teams!$C$17 -> Team 5 | J18: W L T | K18: vs | L18: =Teams!$C$15 -> Team 3 | M18: W L T
B19: =Round!$C19 -> Seed 4 () | E19: =Round!$H19 -> Seed 2 () | I19: =Round!$C19 -> Seed 4 () | L19: =Round!$H19 -> Seed 2 ()
A21: Race 10 | B21: =Teams!$C$18 -> Team 6 | C21: W L T | D21: vs | E21: =Teams!$C$16 -> Team 4 | F21: W L T | H21: Race 10 | I21: =Teams!$C$18 -> Team 6 | J21: W L T | K21: vs | L21: =Teams!$C$16 -> Team 4 | M21: W L T
B22: =Round!$C21 -> Seed 7 () | E22: =Round!$H21 -> Seed 5 () | I22: =Round!$C21 -> Seed 7 () | L22: =Round!$H21 -> Seed 5 ()
A23: Race 11 | B23: =Teams!$C$14 -> Team 2 | C23: W L T | D23: vs | E23: =Teams!$C$17 -> Team 5 | F23: W L T | H23: Race 11 | I23: =Teams!$C$14 -> Team 2 | J23: W L T | K23: vs | L23: =Teams!$C$17 -> Team 5 | M23: W L T
B24: =Round!$C23 -> Seed 3 () | E24: =Round!$H23 -> Seed 1 () | I24: =Round!$C23 -> Seed 3 () | L24: =Round!$H23 -> Seed 1 ()
A25: Race 12 | B25: =Teams!$C$15 -> Team 3 | C25: W L T | D25: vs | E25: =Teams!$C$13 -> Team 1 | F25: W L T | H25: Race 12 | I25: =Teams!$C$15 -> Team 3 | J25: W L T | K25: vs | L25: =Teams!$C$13 -> Team 1 | M25: W L T
B26: =Round!$C26 -> Seed 6 () | E26: =Round!$H26 -> Seed 4 () | I26: =Round!$C26 -> Seed 6 () | L26: =Round!$H26 -> Seed 4 ()
A27: Race 13 | B27: =Teams!$C$17 -> Team 5 | C27: W L T | D27: vs | E27: =Teams!$C$18 -> Team 6 | F27: W L T | H27: Race 13 | I27: =Teams!$C$17 -> Team 5 | J27: W L T | K27: vs | L27: =Teams!$C$18 -> Team 6 | M27: W L T
B28: =Round!$C28 -> Seed 2 () | E28: =Round!$H28 -> Seed 7 () | I28: =Round!$C28 -> Seed 2 () | L28: =Round!$H28 -> Seed 7 ()
A29: Race 14 | B29: =Teams!$C$16 -> Team 4 | C29: W L T | D29: vs | E29: =Teams!$C$15 -> Team 3 | F29: W L T | H29: Race 14 | I29: =Teams!$C$16 -> Team 4 | J29: W L T | K29: vs | L29: =Teams!$C$15 -> Team 3 | M29: W L T
B30: =Round!$C30 -> Seed 5 () | E30: =Round!$H30 -> Seed 3 () | I30: =Round!$C30 -> Seed 5 () | L30: =Round!$H30 -> Seed 3 ()
A31: Race 15 | B31: =Teams!$C$13 -> Team 1 | C31: W L T | D31: vs | E31: =Teams!$C$14 -> Team 2 | F31: W L T | H31: Race 15 | I31: =Teams!$C$13 -> Team 1 | J31: W L T | K31: vs | L31: =Teams!$C$14 -> Team 2 | M31: W L T
B32: =Round!$C32 -> Seed 6 () | E32: =Round!$H32 -> Seed 7 () | I32: =Round!$C32 -> Seed 6 () | L32: =Round!$H32 -> Seed 7 ()
A34: =Round!$A$45 -> JUDGE: Insert Judge Name | C34: =Round!$F$45 -> RINGPARTY: Insert Team/Insert Team | H34: =Round!$A$45 -> JUDGE: Insert Judge Name | J34: =Round!$F$45 -> RINGPARTY: Insert Team/Insert Team
A36: =Teams!$D$4 -> Insert Div Name | C36: =Teams!$D$8 -> Insert Date | F36: =Teams!$B$2 -> 7 Team Round Robin | H36: =Teams!$D$4 -> Insert Div Name | J36: =Teams!$D$8 -> Insert Date | M36: =Teams!$B$2 -> 7 Team Round Robin
A37: Race 1 | B37: =Teams!$C$14 -> Team 2 | C37: W L T | D37: vs | E37: =Teams!$C$15 -> Team 3 | F37: W L T | H37: Race 1 | I37: =Teams!$C$14 -> Team 2 | J37: W L T | K37: vs | L37: =Teams!$C$15 -> Team 3 | M37: W L T
B38: =Round!$C3 -> Seed 1 () | E38: =Round!$H3 -> Seed 4 () | I38: =Round!$C3 -> Seed 1 () | L38: =Round!$H3 -> Seed 4 ()
A39: Race 2 | B39: =Teams!$C$18 -> Team 6 | C39: W L T | D39: vs | E39: =Teams!$C$13 -> Team 1 | F39: W L T | H39: Race 2 | I39: =Teams!$C$18 -> Team 6 | J39: W L T | K39: vs | L39: =Teams!$C$13 -> Team 1 | M39: W L T
B40: =Round!$C5 -> Seed 2 () | E40: =Round!$H5 -> Seed 5 () | I40: =Round!$C5 -> Seed 2 () | L40: =Round!$H5 -> Seed 5 ()
A41: Race 3 | B41: =Teams!$C$16 -> Team 4 | C41: W L T | D41: vs | E41: =Teams!$C$17 -> Team 5 | F41: W L T | H41: Race 3 | I41: =Teams!$C$16 -> Team 4 | J41: W L T | K41: vs | L41: =Teams!$C$17 -> Team 5 | M41: W L T
B42: =Round!$C7 -> Seed 3 () | E42: =Round!$H7 -> Seed 6 () | I42: =Round!$C7 -> Seed 3 () | L42: =Round!$H7 -> Seed 6 ()
A43: Race 4 | B43: =Teams!$C$15 -> Team 3 | C43: W L T | D43: vs | E43: =Teams!$C$18 -> Team 6 | F43: W L T | H43: Race 4 | I43: =Teams!$C$15 -> Team 3 | J43: W L T | K43: vs | L43: =Teams!$C$18 -> Team 6 | M43: W L T
...

Sheet Roundx3 2
A1: =Teams!$D$4 -> Insert Div Name | C1: =Teams!$D$8 -> Insert Date | F1: =Teams!$B$2 -> 7 Team Round Robin | H1: =Teams!$D$4 -> Insert Div Name | J1: =Teams!$D$8 -> Insert Date | M1: =Teams!$B$2 -> 7 Team Round Robin
A2: Race 1 | B2: =Teams!$C$14 -> Team 2 | C2: W L T | D2: vs | E2: =Teams!$C$15 -> Team 3 | F2: W L T | H2: Race 1 | I2: =Teams!$C$14 -> Team 2 | J2: W L T | K2: vs | L2: =Teams!$C$15 -> Team 3 | M2: W L T
B3: =Round!$C3 -> Seed 1 () | E3: =Round!$H3 -> Seed 4 () | I3: =Round!$C3 -> Seed 1 () | L3: =Round!$H3 -> Seed 4 ()
A4: Race 2 | B4: =Teams!$C$18 -> Team 6 | C4: W L T | D4: vs | E4: =Teams!$C$13 -> Team 1 | F4: W L T | H4: Race 2 | I4: =Teams!$C$18 -> Team 6 | J4: W L T | K4: vs | L4: =Teams!$C$13 -> Team 1 | M4: W L T
B5: =Round!$C5 -> Seed 2 () | E5: =Round!$H5 -> Seed 5 () | I5: =Round!$C5 -> Seed 2 () | L5: =Round!$H5 -> Seed 5 ()
A6: Race 3 | B6: =Teams!$C$16 -> Team 4 | C6: W L T | D6: vs | E6: =Teams!$C$17 -> Team 5 | F6: W L T | H6: Race 3 | I6: =Teams!$C$16 -> Team 4 | J6: W L T | K6: vs | L6: =Teams!$C$17 -> Team 5 | M6: W L T
B7: =Round!$C7 -> Seed 3 () | E7: =Round!$H7 -> Seed 6 () | I7: =Round!$C7 -> Seed 3 () | L7: =Round!$H7 -> Seed 6 ()
A8: Race 4 | B8: =Teams!$C$15 -> Team 3 | C8: W L T | D8: vs | E8: =Teams!$C$18 -> Team 6 | F8: W L T | H8: Race 4 | I8: =Teams!$C$15 -> Team 3 | J8: W L T | K8: vs | L8: =Teams!$C$18 -> Team 6 | M8: W L T
B9: =Round!$C9 -> Seed 4 () | E9: =Round!$H9 -> Seed 7 () | I9: =Round!$C9 -> Seed 4 () | L9: =Round!$H9 -> Seed 7 ()
A10: Race 5 | B10: =Teams!$C$16 -> Team 4 | C10: W L T | D10: vs | E10: =Teams!$C$14 -> Team 2 | F10: W L T | H10: Race 5 | I10: =Teams!$C$16 -> Team 4 | J10: W L T | K10: vs | L10: =Teams!$C$14 -> Team 2 | M10: W L T
B11: =Round!$C11 -> Seed 5 () | E11: =Round!$H11 -> Seed 1 () | I11: =Round!$C11 -> Seed 5 () | L11: =Round!$H11 -> Seed 1 ()
A12: Race 6 | B12: =Teams!$C$17 -> Team 5 | C12: W L T | D12: vs | E12: =Teams!$C$13 -> Team 1 | F12: W L T | H12: Race 6 | I12: =Teams!$C$17 -> Team 5 | J12: W L T | K12: vs | L12: =Teams!$C$13 -> Team 1 | M12: W L T
B13: =Round!$C13 -> Seed 6 () | E13: =Round!$H13 -> Seed 2 () | I13: =Round!$C13 -> Seed 6 () | L13: =Round!$H13 -> Seed 2 ()
A14: Race 7 | B14: =Teams!$C$14 -> Team 2 | C14: W L T | D14: vs | E14: =Teams!$C$18 -> Team 6 | F14: W L T | H14: Race 7 | I14: =Teams!$C$14 -> Team 2 | J14: W L T | K14: vs | L14: =Teams!$C$18 -> Team 6 | M14: W L T
B15: =Round!$C15 -> Seed 7 () | E15: =Round!$H15 -> Seed 3 () | I15: =Round!$C15 -> Seed 7 () | L15: =Round!$H15 -> Seed 3 ()
A16: Race 8 | B16: =Teams!$C$13 -> Team 1 | C16: W L T | D16: vs | E16: =Teams!$C$16 -> Team 4 | F16: W L T | H16: Race 8 | I16: =Teams!$C$13 -> Team 1 | J16: W L T | K16: vs | L16: =Teams!$C$16 -> Team 4 | M16: W L T
B17: =Round!$C17 -> Seed 1 () | E17: =Round!$H17 -> Seed 6 () | I17: =Round!$C17 -> Seed 1 () | L17: =Round!$H17 -> Seed 6 ()
A18: Race 9 | B18: =Teams!$C$17 -> Team 5 | C18: W L T | D18: vs | E18: =Teams!$C$15 -> Team 3 | F18: W L T | H18: Race 9 | I18: =Teams!$C$17 -> Team 5 | J18: W L T | K18: vs | L18: =Teams!$C$15 -> Team 3 | M18: W L T
B19: =Round!$C19 -> Seed 4 () | E19: =Round!$H19 -> Seed 2 () | I19: =Round!$C19 -> Seed 4 () | L19: =Round!$H19 -> Seed 2 ()
A21: Race 10 | B21: =Teams!$C$18 -> Team 6 | C21: W L T | D21: vs | E21: =Teams!$C$16 -> Team 4 | F21: W L T | H21: Race 10 | I21: =Teams!$C$18 -> Team 6 | J21: W L T | K21: vs | L21: =Teams!$C$16 -> Team 4 | M21: W L T
B22: =Round!$C21 -> Seed 7 () | E22: =Round!$H21 -> Seed 5 () | I22: =Round!$C21 -> Seed 7 () | L22: =Round!$H21 -> Seed 5 ()
A23: Race 11 | B23: =Teams!$C$14 -> Team 2 | C23: W L T | D23: vs | E23: =Teams!$C$17 -> Team 5 | F23: W L T | H23: Race 11 | I23: =Teams!$C$14 -> Team 2 | J23: W L T | K23: vs | L23: =Teams!$C$17 -> Team 5 | M23: W L T
B24: =Round!$C23 -> Seed 3 () | E24: =Round!$H23 -> Seed 1 () | I24: =Round!$C23 -> Seed 3 () | L24: =Round!$H23 -> Seed 1 ()
A25: Race 12 | B25: =Teams!$C$15 -> Team 3 | C25: W L T | D25: vs | E25: =Teams!$C$13 -> Team 1 | F25: W L T | H25: Race 12 | I25: =Teams!$C$15 -> Team 3 | J25: W L T | K25: vs | L25: =Teams!$C$13 -> Team 1 | M25: W L T
B26: =Round!$C26 -> Seed 6 () | E26: =Round!$H26 -> Seed 4 () | I26: =Round!$C26 -> Seed 6 () | L26: =Round!$H26 -> Seed 4 ()
A27: Race 13 | B27: =Teams!$C$17 -> Team 5 | C27: W L T | D27: vs | E27: =Teams!$C$18 -> Team 6 | F27: W L T | H27: Race 13 | I27: =Teams!$C$17 -> Team 5 | J27: W L T | K27: vs | L27: =Teams!$C$18 -> Team 6 | M27: W L T
B28: =Round!$C28 -> Seed 2 () | E28: =Round!$H28 -> Seed 7 () | I28: =Round!$C28 -> Seed 2 () | L28: =Round!$H28 -> Seed 7 ()
A29: Race 14 | B29: =Teams!$C$16 -> Team 4 | C29: W L T | D29: vs | E29: =Teams!$C$15 -> Team 3 | F29: W L T | H29: Race 14 | I29: =Teams!$C$16 -> Team 4 | J29: W L T | K29: vs | L29: =Teams!$C$15 -> Team 3 | M29: W L T
B30: =Round!$C30 -> Seed 5 () | E30: =Round!$H30 -> Seed 3 () | I30: =Round!$C30 -> Seed 5 () | L30: =Round!$H30 -> Seed 3 ()
A31: Race 15 | B31: =Teams!$C$13 -> Team 1 | C31: W L T | D31: vs | E31: =Teams!$C$14 -> Team 2 | F31: W L T | H31: Race 15 | I31: =Teams!$C$13 -> Team 1 | J31: W L T | K31: vs | L31: =Teams!$C$14 -> Team 2 | M31: W L T
B32: =Round!$C32 -> Seed 6 () | E32: =Round!$H32 -> Seed 7 () | I32: =Round!$C32 -> Seed 6 () | L32: =Round!$H32 -> Seed 7 ()
A34: =Round!$A$45 -> JUDGE: Insert Judge Name | C34: =Round!$F$45 -> RINGPARTY: Insert Team/Insert Team | H34: =Round!$A$45 -> JUDGE: Insert Judge Name | J34: =Round!$F$45 -> RINGPARTY: Insert Team/Insert Team
A36: =Teams!$D$4 -> Insert Div Name | C36: =Teams!$D$8 -> Insert Date | F36: =Teams!$B$2 -> 7 Team Round Robin | H36: =Teams!$D$4 -> Insert Div Name | J36: =Teams!$D$8 -> Insert Date | M36: =Teams!$B$2 -> 7 Team Round Robin
A37: Race 1 | B37: =Teams!$C$14 -> Team 2 | C37: W L T | D37: vs | E37: =Teams!$C$15 -> Team 3 | F37: W L T | H37: Race 1 | I37: =Teams!$C$14 -> Team 2 | J37: W L T | K37: vs | L37: =Teams!$C$15 -> Team 3 | M37: W L T
B38: =Round!$C3 -> Seed 1 () | E38: =Round!$H3 -> Seed 4 () | I38: =Round!$C3 -> Seed 1 () | L38: =Round!$H3 -> Seed 4 ()
A39: Race 2 | B39: =Teams!$C$18 -> Team 6 | C39: W L T | D39: vs | E39: =Teams!$C$13 -> Team 1 | F39: W L T | H39: Race 2 | I39: =Teams!$C$18 -> Team 6 | J39: W L T | K39: vs | L39: =Teams!$C$13 -> Team 1 | M39: W L T
B40: =Round!$C5 -> Seed 2 () | E40: =Round!$H5 -> Seed 5 () | I40: =Round!$C5 -> Seed 2 () | L40: =Round!$H5 -> Seed 5 ()
A41: Race 3 | B41: =Teams!$C$16 -> Team 4 | C41: W L T | D41: vs | E41: =Teams!$C$17 -> Team 5 | F41: W L T | H41: Race 3 | I41: =Teams!$C$16 -> Team 4 | J41: W L T | K41: vs | L41: =Teams!$C$17 -> Team 5 | M41: W L T
B42: =Round!$C7 -> Seed 3 () | E42: =Round!$H7 -> Seed 6 () | I42: =Round!$C7 -> Seed 3 () | L42: =Round!$H7 -> Seed 6 ()
A43: Race 4 | B43: =Teams!$C$15 -> Team 3 | C43: W L T | D43: vs | E43: =Teams!$C$18 -> Team 6 | F43: W L T | H43: Race 4 | I43: =Teams!$C$15 -> Team 3 | J43: W L T | K43: vs | L43: =Teams!$C$18 -> Team 6 | M43: W L T
...

Sheet Roundx3 3
A1: =Teams!$D$4 -> Insert Div Name | C1: =Teams!$D$8 -> Insert Date | F1: =Teams!$B$2 -> 7 Team Round Robin | H1: =Teams!$D$4 -> Insert Div Name | J1: =Teams!$D$8 -> Insert Date | M1: =Teams!$B$2 -> 7 Team Round Robin
A2: Race 1 | B2: =Teams!$C$14 -> Team 2 | C2: W L T | D2: vs | E2: =Teams!$C$15 -> Team 3 | F2: W L T | H2: Race 1 | I2: =Teams!$C$14 -> Team 2 | J2: W L T | K2: vs | L2: =Teams!$C$15 -> Team 3 | M2: W L T
B3: =Round!$C3 -> Seed 1 () | E3: =Round!$H3 -> Seed 4 () | I3: =Round!$C3 -> Seed 1 () | L3: =Round!$H3 -> Seed 4 ()
A4: Race 2 | B4: =Teams!$C$18 -> Team 6 | C4: W L T | D4: vs | E4: =Teams!$C$13 -> Team 1 | F4: W L T | H4: Race 2 | I4: =Teams!$C$18 -> Team 6 | J4: W L T | K4: vs | L4: =Teams!$C$13 -> Team 1 | M4: W L T
B5: =Round!$C5 -> Seed 2 () | E5: =Round!$H5 -> Seed 5 () | I5: =Round!$C5 -> Seed 2 () | L5: =Round!$H5 -> Seed 5 ()
A6: Race 3 | B6: =Teams!$C$16 -> Team 4 | C6: W L T | D6: vs | E6: =Teams!$C$17 -> Team 5 | F6: W L T | H6: Race 3 | I6: =Teams!$C$16 -> Team 4 | J6: W L T | K6: vs | L6: =Teams!$C$17 -> Team 5 | M6: W L T
B7: =Round!$C7 -> Seed 3 () | E7: =Round!$H7 -> Seed 6 () | I7: =Round!$C7 -> Seed 3 () | L7: =Round!$H7 -> Seed 6 ()
A8: Race 4 | B8: =Teams!$C$15 -> Team 3 | C8: W L T | D8: vs | E8: =Teams!$C$18 -> Team 6 | F8: W L T | H8: Race 4 | I8: =Teams!$C$15 -> Team 3 | J8: W L T | K8: vs | L8: =Teams!$C$18 -> Team 6 | M8: W L T
B9: =Round!$C9 -> Seed 4 () | E9: =Round!$H9 -> Seed 7 () | I9: =Round!$C9 -> Seed 4 () | L9: =Round!$H9 -> Seed 7 ()
A10: Race 5 | B10: =Teams!$C$16 -> Team 4 | C10: W L T | D10: vs | E10: =Teams!$C$14 -> Team 2 | F10: W L T | H10: Race 5 | I10: =Teams!$C$16 -> Team 4 | J10: W L T | K10: vs | L10: =Teams!$C$14 -> Team 2 | M10: W L T
B11: =Round!$C11 -> Seed 5 () | E11: =Round!$H11 -> Seed 1 () | I11: =Round!$C11 -> Seed 5 () | L11: =Round!$H11 -> Seed 1 ()
A12: Race 6 | B12: =Teams!$C$17 -> Team 5 | C12: W L T | D12: vs | E12: =Teams!$C$13 -> Team 1 | F12: W L T | H12: Race 6 | I12: =Teams!$C$17 -> Team 5 | J12: W L T | K12: vs | L12: =Teams!$C$13 -> Team 1 | M12: W L T
B13: =Round!$C13 -> Seed 6 () | E13: =Round!$H13 -> Seed 2 () | I13: =Round!$C13 -> Seed 6 () | L13: =Round!$H13 -> Seed 2 ()
A14: Race 7 | B14: =Teams!$C$14 -> Team 2 | C14: W L T | D14: vs | E14: =Teams!$C$18 -> Team 6 | F14: W L T | H14: Race 7 | I14: =Teams!$C$14 -> Team 2 | J14: W L T | K14: vs | L14: =Teams!$C$18 -> Team 6 | M14: W L T
B15: =Round!$C15 -> Seed 7 () | E15: =Round!$H15 -> Seed 3 () | I15: =Round!$C15 -> Seed 7 () | L15: =Round!$H15 -> Seed 3 ()
A16: Race 8 | B16: =Teams!$C$13 -> Team 1 | C16: W L T | D16: vs | E16: =Teams!$C$16 -> Team 4 | F16: W L T | H16: Race 8 | I16: =Teams!$C$13 -> Team 1 | J16: W L T | K16: vs | L16: =Teams!$C$16 -> Team 4 | M16: W L T
B17: =Round!$C17 -> Seed 1 () | E17: =Round!$H17 -> Seed 6 () | I17: =Round!$C17 -> Seed 1 () | L17: =Round!$H17 -> Seed 6 ()
A18: Race 9 | B18: =Teams!$C$17 -> Team 5 | C18: W L T | D18: vs | E18: =Teams!$C$15 -> Team 3 | F18: W L T | H18: Race 9 | I18: =Teams!$C$17 -> Team 5 | J18: W L T | K18: vs | L18: =Teams!$C$15 -> Team 3 | M18: W L T
B19: =Round!$C19 -> Seed 4 () | E19: =Round!$H19 -> Seed 2 () | I19: =Round!$C19 -> Seed 4 () | L19: =Round!$H19 -> Seed 2 ()
A21: Race 10 | B21: =Teams!$C$18 -> Team 6 | C21: W L T | D21: vs | E21: =Teams!$C$16 -> Team 4 | F21: W L T | H21: Race 10 | I21: =Teams!$C$18 -> Team 6 | J21: W L T | K21: vs | L21: =Teams!$C$16 -> Team 4 | M21: W L T
B22: =Round!$C21 -> Seed 7 () | E22: =Round!$H21 -> Seed 5 () | I22: =Round!$C21 -> Seed 7 () | L22: =Round!$H21 -> Seed 5 ()
A23: Race 11 | B23: =Teams!$C$14 -> Team 2 | C23: W L T | D23: vs | E23: =Teams!$C$17 -> Team 5 | F23: W L T | H23: Race 11 | I23: =Teams!$C$14 -> Team 2 | J23: W L T | K23: vs | L23: =Teams!$C$17 -> Team 5 | M23: W L T
B24: =Round!$C23 -> Seed 3 () | E24: =Round!$H23 -> Seed 1 () | I24: =Round!$C23 -> Seed 3 () | L24: =Round!$H23 -> Seed 1 ()
A25: Race 12 | B25: =Teams!$C$15 -> Team 3 | C25: W L T | D25: vs | E25: =Teams!$C$13 -> Team 1 | F25: W L T | H25: Race 12 | I25: =Teams!$C$15 -> Team 3 | J25: W L T | K25: vs | L25: =Teams!$C$13 -> Team 1 | M25: W L T
B26: =Round!$C26 -> Seed 6 () | E26: =Round!$H26 -> Seed 4 () | I26: =Round!$C26 -> Seed 6 () | L26: =Round!$H26 -> Seed 4 ()
A27: Race 13 | B27: =Teams!$C$17 -> Team 5 | C27: W L T | D27: vs | E27: =Teams!$C$18 -> Team 6 | F27: W L T | H27: Race 13 | I27: =Teams!$C$17 -> Team 5 | J27: W L T | K27: vs | L27: =Teams!$C$18 -> Team 6 | M27: W L T
B28: =Round!$C28 -> Seed 2 () | E28: =Round!$H28 -> Seed 7 () | I28: =Round!$C28 -> Seed 2 () | L28: =Round!$H28 -> Seed 7 ()
A29: Race 14 | B29: =Teams!$C$16 -> Team 4 | C29: W L T | D29: vs | E29: =Teams!$C$15 -> Team 3 | F29: W L T | H29: Race 14 | I29: =Teams!$C$16 -> Team 4 | J29: W L T | K29: vs | L29: =Teams!$C$15 -> Team 3 | M29: W L T
B30: =Round!$C30 -> Seed 5 () | E30: =Round!$H30 -> Seed 3 () | I30: =Round!$C30 -> Seed 5 () | L30: =Round!$H30 -> Seed 3 ()
A31: Race 15 | B31: =Teams!$C$13 -> Team 1 | C31: W L T | D31: vs | E31: =Teams!$C$14 -> Team 2 | F31: W L T | H31: Race 15 | I31: =Teams!$C$13 -> Team 1 | J31: W L T | K31: vs | L31: =Teams!$C$14 -> Team 2 | M31: W L T
B32: =Round!$C32 -> Seed 6 () | E32: =Round!$H32 -> Seed 7 () | I32: =Round!$C32 -> Seed 6 () | L32: =Round!$H32 -> Seed 7 ()
A34: =Round!$A$45 -> JUDGE: Insert Judge Name | C34: =Round!$F$45 -> RINGPARTY: Insert Team/Insert Team | H34: =Round!$A$45 -> JUDGE: Insert Judge Name | J34: =Round!$F$45 -> RINGPARTY: Insert Team/Insert Team
A36: =Teams!$D$4 -> Insert Div Name | C36: =Teams!$D$8 -> Insert Date | F36: =Teams!$B$2 -> 7 Team Round Robin | H36: =Teams!$D$4 -> Insert Div Name | J36: =Teams!$D$8 -> Insert Date | M36: =Teams!$B$2 -> 7 Team Round Robin
A37: Race 1 | B37: =Teams!$C$14 -> Team 2 | C37: W L T | D37: vs | E37: =Teams!$C$15 -> Team 3 | F37: W L T | H37: Race 1 | I37: =Teams!$C$14 -> Team 2 | J37: W L T | K37: vs | L37: =Teams!$C$15 -> Team 3 | M37: W L T
B38: =Round!$C3 -> Seed 1 () | E38: =Round!$H3 -> Seed 4 () | I38: =Round!$C3 -> Seed 1 () | L38: =Round!$H3 -> Seed 4 ()
A39: Race 2 | B39: =Teams!$C$18 -> Team 6 | C39: W L T | D39: vs | E39: =Teams!$C$13 -> Team 1 | F39: W L T | H39: Race 2 | I39: =Teams!$C$18 -> Team 6 | J39: W L T | K39: vs | L39: =Teams!$C$13 -> Team 1 | M39: W L T
B40: =Round!$C5 -> Seed 2 () | E40: =Round!$H5 -> Seed 5 () | I40: =Round!$C5 -> Seed 2 () | L40: =Round!$H5 -> Seed 5 ()
A41: Race 3 | B41: =Teams!$C$16 -> Team 4 | C41: W L T | D41: vs | E41: =Teams!$C$17 -> Team 5 | F41: W L T | H41: Race 3 | I41: =Teams!$C$16 -> Team 4 | J41: W L T | K41: vs | L41: =Teams!$C$17 -> Team 5 | M41: W L T
B42: =Round!$C7 -> Seed 3 () | E42: =Round!$H7 -> Seed 6 () | I42: =Round!$C7 -> Seed 3 () | L42: =Round!$H7 -> Seed 6 ()
A43: Race 4 | B43: =Teams!$C$15 -> Team 3 | C43: W L T | D43: vs | E43: =Teams!$C$18 -> Team 6 | F43: W L T | H43: Race 4 | I43: =Teams!$C$15 -> Team 3 | J43: W L T | K43: vs | L43: =Teams!$C$18 -> Team 6 | M43: W L T
...

Sheet Block
A2: =CONCATENATE("JUDGE:- ",Teams!D5) -> JUDGE:- Insert Judge Name | H2: ROUND ROBIN RESULTS AND BEST TIMES ( 7 TEAM EVENT) | U2: Division: | W2: =Teams!D3 -> Insert Division Number
A4: TEAMS | B4: RACE 1 | C4: RACE 2 | D4: RACE 3 | E4: RACE 4 | F4: RACE 5 | G4: RACE 6 | H4: RACE 7 | I4: RACE 8 | J4: RACE 9 | K4: RACE 10 | L4: RACE 11 | M4: RACE 12 | N4: RACE 13 | O4: RACE 14 | P4: RACE 15 | Q4: RACE 16 | R4: RACE 17 | S4: RACE 18 | T4: RACE 19 | U4: RACE 20 | V4: RACE 21 | W4: TOTAL POINTS | X4: RESULT
A5: =Teams!C13 -> Team 1
A6: =CONCATENATE("Seed Time: ",Teams!D13,"; Best Time") -> Seed Time: ; Best Time
A7: =Teams!C14 -> Team 2
A8: =CONCATENATE("Seed Time: ",Teams!D14,"; Best Time") -> Seed Time: ; Best Time
A9: =Teams!C15 -> Team 3
A10: =CONCATENATE("Seed Time: ",Teams!D15,"; Best Time") -> Seed Time: ; Best Time
A11: =Teams!C16 -> Team 4
A12: =CONCATENATE("Seed Time: ",Teams!D16,"; Best Time") -> Seed Time: ; Best Time
A13: =Teams!C17 -> Team 5
A14: =CONCATENATE("Seed Time: ",Teams!D17,"; Best Time") -> Seed Time: ; Best Time
A15: =Teams!C18 -> Team 6
A16: =CONCATENATE("Seed Time: ",Teams!D18,"; Best Time") -> Seed Time: ; Best Time
A17: =Teams!C19 -> Team 7
A18: =CONCATENATE("Seed Time: ",Teams!D19,"; Best Time") -> Seed Time: ; Best Time

Sheet Sheet1
